BEGIN:VCALENDAR
VERSION:2.0
PRODID:Events Booking
BEGIN:VEVENT
UID:69eb474a3b96a
SUMMARY:Silent Disco Dunwich Beach
DESCRIPTION:
LOCATION:Village Hall\, Darsham Road\, Westleton\, East Suffolk\, Suffolk\,
  England\, IP17 3AH\, United Kingdom
DTSTART:20240810T093000Z
DTEND:20240810T103000Z
DTSTAMP:20231217T154040Z
ORGANIZER;CN=Elemental Earthdance:MAILTO:admin@earthdance.uk
GEO:52.265564;1.574982
X-APPLE-STRUCTURED-LOCATION;VALUE=URI;X-ADDRESS=Village Hall\, Darsham Road
 \, Westleton\, East Suffolk\, Suffolk\, England\, IP17 3AH\, United Kingdo
 m;X-APPLE-RADIUS=72;X-TITLE=Westleton Village Hall:52.265564;1.574982
END:VEVENT
END:VCALENDAR